BEGIN:VCALENDAR
VERSION:2.0
PRODID:-//Dystonie-und-Du - ECPv6.15.20//NONSGML v1.0//EN
CALSCALE:GREGORIAN
METHOD:PUBLISH
X-WR-CALNAME:Dystonie-und-Du
X-ORIGINAL-URL:https://dystonie-und-du.de
X-WR-CALDESC:Veranstaltungen für Dystonie-und-Du
REFRESH-INTERVAL;VALUE=DURATION:PT1H
X-Robots-Tag:noindex
X-PUBLISHED-TTL:PT1H
BEGIN:VTIMEZONE
TZID:Europe/Berlin
BEGIN:DAYLIGHT
TZOFFSETFROM:+0100
TZOFFSETTO:+0200
TZNAME:CEST
DTSTART:20250330T010000
END:DAYLIGHT
BEGIN:STANDARD
TZOFFSETFROM:+0200
TZOFFSETTO:+0100
TZNAME:CET
DTSTART:20251026T010000
END:STANDARD
BEGIN:DAYLIGHT
TZOFFSETFROM:+0100
TZOFFSETTO:+0200
TZNAME:CEST
DTSTART:20260329T010000
END:DAYLIGHT
BEGIN:STANDARD
TZOFFSETFROM:+0200
TZOFFSETTO:+0100
TZNAME:CET
DTSTART:20261025T010000
END:STANDARD
BEGIN:DAYLIGHT
TZOFFSETFROM:+0100
TZOFFSETTO:+0200
TZNAME:CEST
DTSTART:20270328T010000
END:DAYLIGHT
BEGIN:STANDARD
TZOFFSETFROM:+0200
TZOFFSETTO:+0100
TZNAME:CET
DTSTART:20271031T010000
END:STANDARD
END:VTIMEZONE
BEGIN:VEVENT
DTSTART;TZID=Europe/Berlin:20260428T150000
DTEND;TZID=Europe/Berlin:20260428T170000
DTSTAMP:20260423T140729
CREATED:20260218T205036Z
LAST-MODIFIED:20260403T122524Z
UID:29235-1777388400-1777395600@dystonie-und-du.de
SUMMARY:SHG Dystonie Lübeck
DESCRIPTION:
URL:https://dystonie-und-du.de/veranstaltung/shg-dystonie-luebeck-6/
LOCATION:Universitätsklinikum Schleswig Holstein\, Zentrum für seltene Erkrankungen\, Ratzeburger Allee 160\, Eingang Mönkhofer Weg Haus D Raum 4\, Lübeck\, Schleswig Holstein\, 23564\, Germany
ATTACH;FMTTYPE=image/jpeg:http://dystonie-und-du.de/wp-content/uploads/LUeBECK-2.png
END:VEVENT
END:VCALENDAR